2.43840000
0.00000000
0.00000000
-2.43840000
625339.04436007
5082210.36795537
