2.43840000
0.00000000
0.00000000
-2.43840000
635038.82853104
5082431.91877320
