2.43840000
0.00000000
0.00000000
-2.43840000
586733.62156001
5067588.47063331
