2.43840000
0.00000000
0.00000000
-2.43840000
606176.75860893
5067929.23608456
