2.43840000
0.00000000
0.00000000
-2.43840000
577183.78556146
5053556.56937323
