2.43840000
0.00000000
0.00000000
-2.43840000
587127.93855710
5039813.75695858
