2.43840000
0.00000000
0.00000000
-2.43840000
596885.01097402
5039976.88680240
