2.43840000
0.00000000
0.00000000
-2.43840000
606893.57149660
5026268.83621749
