2.43840000
0.00000000
0.00000000
-2.43840000
616936.99708186
5012568.33431628
