2.43840000
0.00000000
0.00000000
-2.43840000
663769.46265185
5097074.51030238
