2.43840000
0.00000000
0.00000000
-2.43840000
664138.06100020
5083187.82850388
