2.43840000
0.00000000
0.00000000
-2.43840000
683948.83072662
5069879.26722972
