2.43840000
0.00000000
0.00000000
-2.43840000
693670.24690414
5070192.13991287
