2.43840000
0.00000000
0.00000000
-2.43840000
655137.59190113
5055144.46691313
