2.43840000
0.00000000
0.00000000
-2.43840000
704306.32643280
5042745.91738293
