2.43840000
0.00000000
0.00000000
-2.43840000
675398.97889089
5027921.53916296
