2.43840000
0.00000000
0.00000000
-2.43840000
705659.31655343
5001087.73614019
