2.438400
0.000000
0.000000
-2.438400
715145.283791
5001462.757008
