2.43840000
0.00000000
0.00000000
-2.43840000
324582.51924475
5097070.95740536
