2.43840000
0.00000000
0.00000000
-2.43840000
314456.41258695
5083469.11417707
