2.43840000
0.00000000
0.00000000
-2.43840000
324180.69827896
5083188.93951686
