2.43840000
0.00000000
0.00000000
-2.43840000
294548.80260998
5070192.13991287
