2.43840000
0.00000000
0.00000000
-2.43840000
314042.61537349
5069582.72781206
