2.43840000
0.00000000
0.00000000
-2.43840000
323789.52343031
5069301.40793515
