2.43840000
0.00000000
0.00000000
-2.43840000
264794.65945640
5057336.97813873
