2.43840000
0.00000000
0.00000000
-2.43840000
303869.21453233
5055989.59010838
