2.43840000
0.00000000
0.00000000
-2.43840000
274064.97873593
5043088.18495865
