2.43840000
0.00000000
0.00000000
-2.43840000
313225.75715596
5041807.15780932
