2.43840000
0.00000000
0.00000000
-2.43840000
263755.89894139
5029559.06457955
