2.43840000
0.00000000
0.00000000
-2.43840000
273567.62717543
5029201.53872092
