2.43840000
0.00000000
0.00000000
-2.43840000
321850.01776030
4999867.44978247
