2.43840000
0.00000000
0.00000000
-2.43840000
363388.73380428
5096098.29687628
