2.43840000
0.00000000
0.00000000
-2.43840000
372808.23112694
5082002.91216568
