2.43840000
0.00000000
0.00000000
-2.43840000
382533.61943257
5081811.77156543
