2.43840000
0.00000000
0.00000000
-2.43840000
362777.63037661
5068322.71891705
