2.43840000
0.00000000
0.00000000
-2.43840000
401765.90278234
5067587.35962616
