2.43840000
0.00000000
0.00000000
-2.43840000
352704.40833966
5054656.94940820
