2.43840000
0.00000000
0.00000000
-2.43840000
391547.93812256
5039973.41921931
