2.43840000
0.00000000
0.00000000
-2.43840000
400538.63753143
4998158.62669487
