2.43840000
0.00000000
0.00000000
-2.43840000
410543.25460475
4998009.59787210
