2.43840000
0.00000000
0.00000000
-2.43840000
460423.19611875
5094717.94972905
