2.43840000
0.00000000
0.00000000
-2.43840000
479831.43129238
5094624.41543533
