2.43840000
0.00000000
0.00000000
-2.43840000
450611.50490298
5080899.37468210
