2.43840000
0.00000000
0.00000000
-2.43840000
479744.34920931
5066848.45029207
