2.43840000
0.00000000
0.00000000
-2.43840000
450395.49693480
5053124.03991227
