2.43840000
0.00000000
0.00000000
-2.43840000
450179.69834265
5025349.93079030
