2.43840000
0.00000000
0.00000000
-2.43840000
430406.26087453
5011648.07190357
