2.43840000
0.00000000
0.00000000
-2.43840000
440109.28827953
4997661.82110323
