2.43840000
0.00000000
0.00000000
-2.43840000
489384.84716082
4997389.94927912
