2.43840000
0.00000000
0.00000000
-2.43840000
528275.29326117
5094719.05583429
